BEGIN:VCALENDAR
VERSION:2.0
PRODID:-//Neustadt-lab 2017 - ECPv4.5.13//NONSGML v1.0//EN
CALSCALE:GREGORIAN
METHOD:PUBLISH
X-WR-CALNAME:Neustadt-lab 2017
X-ORIGINAL-URL:https://2017.neustadt-lab.ch
X-WR-CALDESC:Events for Neustadt-lab 2017
BEGIN:VEVENT
DTSTART;TZID=Europe/Berlin:20170920T120000
DTEND;TZID=Europe/Berlin:20170923T200000
DTSTAMP:20260420T202026
CREATED:20170918T140333Z
LAST-MODIFIED:20170918T140333Z
UID:827-1505908800-1506196800@2017.neustadt-lab.ch
SUMMARY:BETRACHTIG | Roland Sidler
DESCRIPTION:Roland Siedler zeigt Bilder (Öl und Acryl) und Zeichnungen im UNA Haus. \nEröffnung: Mittwoch 20.9.17 ab 12h \nÖffnungszeiten: Mi-Sa jeweils von 12-20h \nDer Künstler ist anwesend. \n
URL:https://2017.neustadt-lab.ch/event/betrachtig-roland-sidler/
CATEGORIES:Ausstellung
ATTACH;FMTTYPE=image/jpeg:https://2017.neustadt-lab.ch/wp-content/uploads/2017/03/20170830_UNA_1421.jpg
END:VEVENT
BEGIN:VEVENT
DTSTART;VALUE=DATE:20170923
DTEND;VALUE=DATE:20170923
DTSTAMP:20260420T202026
CREATED:20170829T153818Z
LAST-MODIFIED:20170829T154438Z
UID:730-1506124800-1506211199@2017.neustadt-lab.ch
SUMMARY:Veranstaltung Sk8 Park Bern 1 Jahr
DESCRIPTION:Come Celebrate with us the b day bash of the bowl with\ndifferent Challenges\, contests\, Sk8.be Soundsystem\, beer food ect ect\nmore info to come \n
URL:https://2017.neustadt-lab.ch/event/sk8-park-bern-1-jahr/
CATEGORIES:SK8.BE
ATTACH;FMTTYPE=image/png:https://2017.neustadt-lab.ch/wp-content/uploads/2017/08/SK8.png
ORGANIZER;CN="SK8.BE":MAILTO:info@sk8.be
END:VEVENT
BEGIN:VEVENT
DTSTART;VALUE=DATE:20170923
DTEND;VALUE=DATE:20170923
DTSTAMP:20260420T202026
CREATED:20170901T132823Z
LAST-MODIFIED:20170901T132909Z
UID:766-1506124800-1506211199@2017.neustadt-lab.ch
SUMMARY:Abschluss Neustadt-lab 2017
DESCRIPTION:Detaillierteres Programm folgt. \n
URL:https://2017.neustadt-lab.ch/event/abschluss-neustadt-lab-2017/
CATEGORIES:Ganzer Platz
ATTACH;FMTTYPE=image/png:https://2017.neustadt-lab.ch/wp-content/uploads/2017/07/NSL_ROT_1.png
END:VEVENT
BEGIN:VEVENT
DTSTART;TZID=Europe/Berlin:20170923T100000
DTEND;TZID=Europe/Berlin:20170923T233000
DTSTAMP:20260420T202026
CREATED:20170918T140727Z
LAST-MODIFIED:20170918T143528Z
UID:831-1506160800-1506209400@2017.neustadt-lab.ch
SUMMARY:Strassenstrich | Künstlerische Intervention
DESCRIPTION:Matze interveniert am Samstag 23.9.17 auf dem Platz von Neustadt-lab mit dem Happening „Strassenstrich“. \nMaterialien: 4 Strassenlaternen\, 4 Nutten\, 4 Dealer\, 2 Zuhälter\, 1 Vergnügungssbox \n  \nDer Künstler ist anwesend 🙂 \n
URL:https://2017.neustadt-lab.ch/event/strassenstrich-kuenstlerische-intervention/
CATEGORIES:Ausstellung
ATTACH;FMTTYPE=image/jpeg:https://2017.neustadt-lab.ch/wp-content/uploads/2017/03/platzsee_1314.jpg
END:VEVENT
BEGIN:VEVENT
DTSTART;TZID=Europe/Berlin:20170923T200000
DTEND;TZID=Europe/Berlin:20170923T233000
DTSTAMP:20260420T202026
CREATED:20170916T210306Z
LAST-MODIFIED:20170918T093325Z
UID:819-1506196800-1506209400@2017.neustadt-lab.ch
SUMMARY:Solstage-Abschluss mit INDIVIDUAL\, NAMAKA und BUNGALO BOOTY
DESCRIPTION:7 Wochen auf unserer Berner Lieblingsbühne müssen gebührend gefeiert werden. Nach etlichen Literaturveranstaltungen\, Rap-\, Rock- und Jazzkonzerten (und natürlich einer gewaltigen Dosis Crossover) gibt’s zum Schluss elektronische Live-Musik vom Feinsten\, um den Sommer noch ein letztes Mal zurückzupfeifen oder zumindest das Herz für die kommenden kalten Tage richtig schön vorzuwärmen. \nINDIVIDUAL holen euch mit ihrer Mischung aus Pop und elektronischer Live-Mukke ab\, egal wo ihr gerade seid. EDM isch geil!\nLinks: Website\, Facebook\, Youtube\nLine-up: Robin Kellenberger (voc)\, Timon Kellenberger (git)\, Joel Burkhard (bass)\, Pascal Widmer (drums) \nNAMAKA wird noch lange in euren Ohren nachhallen. Dreckige Grooves und rohe Beats\, umwoben von dieser wunderbar sanften Stimme.\nLinks: Website\, Facebook\, Soundcloud\nLine-up: Sophie Adam (voc\, synth)\, Philipp Schlotter (moog\, synth)\, Fred Bürki (drums\, electronics) \nBUNGALOW BOOTY heisst der Schlachtruf des Solstage-Abschlussfeuerwerks. Nach einer einjährigen Pause das grosse Comeback! Und wenn sie nicht geübt haben\, ist die Probenzeit wohl in die Produktion ihrer neuen Merch-Kollektion geflossen. Soyez prêts pour une dernière foi de TRANSPIRER EN ÉTÉ!\nLine-up: Tropical Maus (voc\, blockflöte)\, Ragga Ratze die Palme (synth)\, Hörnchen Maskulin (drums\, voc) \n
URL:https://2017.neustadt-lab.ch/event/solstage-abschluss-mit-individual-namaka-und-bungalo-booty/
CATEGORIES:Solstage
ATTACH;FMTTYPE=image/jpeg:https://2017.neustadt-lab.ch/wp-content/uploads/2017/09/DSC_0456.jpg
END:VEVENT
END:VCALENDAR