BEGIN:VCALENDAR
VERSION:2.0
PRODID:-//Neustadt-lab 2017 - ECPv4.5.13//NONSGML v1.0//EN
CALSCALE:GREGORIAN
METHOD:PUBLISH
X-WR-CALNAME:Neustadt-lab 2017
X-ORIGINAL-URL:https://2017.neustadt-lab.ch
X-WR-CALDESC:Events for Neustadt-lab 2017
BEGIN:VEVENT
DTSTART;TZID=Europe/Berlin:20170920T120000
DTEND;TZID=Europe/Berlin:20170923T200000
DTSTAMP:20260420T185059
CREATED:20170918T140333Z
LAST-MODIFIED:20170918T140333Z
UID:827-1505908800-1506196800@2017.neustadt-lab.ch
SUMMARY:BETRACHTIG | Roland Sidler
DESCRIPTION:Roland Siedler zeigt Bilder (Öl und Acryl) und Zeichnungen im UNA Haus. \nEröffnung: Mittwoch 20.9.17 ab 12h \nÖffnungszeiten: Mi-Sa jeweils von 12-20h \nDer Künstler ist anwesend. \n
URL:https://2017.neustadt-lab.ch/event/betrachtig-roland-sidler/
CATEGORIES:Ausstellung
ATTACH;FMTTYPE=image/jpeg:https://2017.neustadt-lab.ch/wp-content/uploads/2017/03/20170830_UNA_1421.jpg
END:VEVENT
BEGIN:VEVENT
DTSTART;TZID=Europe/Berlin:20170922T120000
DTEND;TZID=Europe/Berlin:20170922T233000
DTSTAMP:20260420T185059
CREATED:20170823T165926Z
LAST-MODIFIED:20170918T142025Z
UID:678-1506081600-1506123000@2017.neustadt-lab.ch
SUMMARY:AMCO | les amis du Congo
DESCRIPTION:Venir gouter un repas pour soutenir un puis d’eau au Congo. \nKommt vorbei und gönnt euch ein Essen und unterstützt dabei den Bau eines Brunnens im Kongo. \n
URL:https://2017.neustadt-lab.ch/event/amco-les-mais-du-congo/
CATEGORIES:Verschiedene
END:VEVENT
BEGIN:VEVENT
DTSTART;TZID=Europe/Berlin:20170922T180000
DTEND;TZID=Europe/Berlin:20170922T233000
DTSTAMP:20260420T185059
CREATED:20170901T090142Z
LAST-MODIFIED:20170901T091110Z
UID:750-1506103200-1506123000@2017.neustadt-lab.ch
SUMMARY:Veranstaltung Roxy
DESCRIPTION:
URL:https://2017.neustadt-lab.ch/event/veranstaltung-roxy/
CATEGORIES:RoxyBar
ATTACH;FMTTYPE=image/jpeg:https://2017.neustadt-lab.ch/wp-content/uploads/2017/09/roxy2.jpg
END:VEVENT
BEGIN:VEVENT
DTSTART;TZID=Europe/Berlin:20170922T200000
DTEND;TZID=Europe/Berlin:20170922T210000
DTSTAMP:20260420T185059
CREATED:20170921T135356Z
LAST-MODIFIED:20170921T135356Z
UID:838-1506110400-1506114000@2017.neustadt-lab.ch
SUMMARY:E.P.-King
DESCRIPTION:Elvis\, the one and only is back! \nUnd das erst noch live an der Polarbar. \n
URL:https://2017.neustadt-lab.ch/event/e-p-king/
CATEGORIES:Konzert
ATTACH;FMTTYPE=image/jpeg:https://2017.neustadt-lab.ch/wp-content/uploads/2017/09/DSC03019.jpg
END:VEVENT
END:VCALENDAR