BEGIN:VCALENDAR
VERSION:2.0
PRODID:-//Neustadt-lab 2017 - ECPv4.5.13//NONSGML v1.0//EN
CALSCALE:GREGORIAN
METHOD:PUBLISH
X-WR-CALNAME:Neustadt-lab 2017
X-ORIGINAL-URL:https://2017.neustadt-lab.ch
X-WR-CALDESC:Events for Neustadt-lab 2017
BEGIN:VEVENT
DTSTART;TZID=Europe/Berlin:20170914T200000
DTEND;TZID=Europe/Berlin:20170914T220000
DTSTAMP:20260420T062256
CREATED:20170626T153805Z
LAST-MODIFIED:20170812T141441Z
UID:159-1505419200-1505426400@2017.neustadt-lab.ch
SUMMARY:Ungergrund Bärn: HOWALD
DESCRIPTION:Dimitri Howald baut in seinem Soloprojekt flächenhafte\, sphärische Live-Loops mit speziellem Setup. Diese haben einen elektronischen\, experimentellen Charakter und zeichnen sich durch ihre ausserordentliche Wärme und Schönheit aus. Darüber fliegen träumerische Melodien und geräuschhafte Klänge\, welche ansatzweise an eine Ästhetik aus Ambient und Post-Rock erinnern. \nIm Netz:\nWebsite\, Soundcloud \nLine-up:\nDimitri Howald – guitar\, fx\, loops\, bow\, synth-bass \n
URL:https://2017.neustadt-lab.ch/event/ungergrund-baern-dimitri-howald/
CATEGORIES:Solstage
ATTACH;FMTTYPE=image/jpeg:https://2017.neustadt-lab.ch/wp-content/uploads/2017/06/dimitri_howald.jpg
END:VEVENT
END:VCALENDAR