BEGIN:VCALENDAR
VERSION:2.0
PRODID:-//Neustadt-lab 2017 - ECPv4.5.13//NONSGML v1.0//EN
CALSCALE:GREGORIAN
METHOD:PUBLISH
X-WR-CALNAME:Neustadt-lab 2017
X-ORIGINAL-URL:https://2017.neustadt-lab.ch
X-WR-CALDESC:Events for Neustadt-lab 2017
BEGIN:VEVENT
DTSTART;TZID=Europe/Berlin:20170912T190000
DTEND;TZID=Europe/Berlin:20170912T220000
DTSTAMP:20260420T025350
CREATED:20170901T131437Z
LAST-MODIFIED:20170901T132135Z
UID:758-1505242800-1505253600@2017.neustadt-lab.ch
SUMMARY:Asado von El Gaucho und Käpt'n Snäck
DESCRIPTION:Aufgepasst: El Gaucho und Käpt’n Snack spannen am 12.9. Karren und Kutter zusammen und hängen für euch ein leckeres Bio-Lamm ans Kreuz. \nArgentina-Style. Dazu gibts Salate\, was gesundes für Vegis und Veganer\, Dessert und nen ausgesuchten Wein. Wer den Hals nicht voll bekommt\, kann sich selbstverständlich beim Käptn noch ein Supplement ordern. \nDer Spass kostet euch schlappe 40.- Dukaten\, ohne Getränke. \nUm 19h @polarbar im Neustadt-lab gehts los\, seit pünktlich. \nDie Plätze sind beschränkt\, also meldet euch bitte verbindlich an unter: elgauchofeatkaptnsnack@gmx.ch \n  \n
URL:https://2017.neustadt-lab.ch/event/asado-von-el-gaucho-und-kaeptn-snaeck/
CATEGORIES:Verschiedene
ATTACH;FMTTYPE=image/png:https://2017.neustadt-lab.ch/wp-content/uploads/2017/09/KaptnSnack.png
ORGANIZER;CN="K%C3%A4pt%27n%20Sn%C3%A4ck%20%26%20El%20Gaucho":MAILTO:elgauchofeatkaptnsnack@gmx.ch
END:VEVENT
BEGIN:VEVENT
DTSTART;TZID=Europe/Berlin:20170912T200000
DTEND;TZID=Europe/Berlin:20170912T220000
DTSTAMP:20260420T025350
CREATED:20170626T155144Z
LAST-MODIFIED:20170730T141120Z
UID:188-1505246400-1505253600@2017.neustadt-lab.ch
SUMMARY:Rock: Artlu Bubble and the Dead Animal Gang
DESCRIPTION:
URL:https://2017.neustadt-lab.ch/event/rock-6/
CATEGORIES:Solstage
END:VEVENT
END:VCALENDAR