BEGIN:VCALENDAR
VERSION:2.0
PRODID:-//Neustadt-lab 2017 - ECPv4.5.13//NONSGML v1.0//EN
CALSCALE:GREGORIAN
METHOD:PUBLISH
X-WR-CALNAME:Neustadt-lab 2017
X-ORIGINAL-URL:https://2017.neustadt-lab.ch
X-WR-CALDESC:Events for Neustadt-lab 2017
BEGIN:VEVENT
DTSTART;TZID=Europe/Berlin:20170910T180000
DTEND;TZID=Europe/Berlin:20170910T193000
DTSTAMP:20260419T233538
CREATED:20170723T110903Z
LAST-MODIFIED:20170809T085943Z
UID:355-1505066400-1505071800@2017.neustadt-lab.ch
SUMMARY:Colour Of Rice
DESCRIPTION:Colour Of Rice ist eine Stimme\, die Hand in Hand mit der Gitarre auf Reise ist. Ihre Musik sind zu Songs gewordenen Emotionen; erzählend\, nostalgisch\, ergreifend. Von Trauer zu Wut\, Zuneigung zu Liebe… die junge Singer/Songwriterin ist ehrlich in ihren Lyrics und offenbart uns mit ihrer ausdrucksstarken Stimme und harmonischen Begleitung der Gitarre eine überwältigende Gefühlswelt. Manchmal\, da hält man nahezu den Atem an. Voller Erwartung auf den nächsten Klang\, das nächste Wort. Sie lädt uns zum Aufbruch in eine musikalische Welt ein in der man vergisst\, vielleicht sich auch erinnert\, aber ganz sicher fühlt. \nVideo: https://www.youtube.com/watch?v=oEF-l2QK5E8 \n  \n
URL:https://2017.neustadt-lab.ch/event/colour-of-rice/
CATEGORIES:Konzert
ATTACH;FMTTYPE=image/jpeg:https://2017.neustadt-lab.ch/wp-content/uploads/2017/07/colourofrice.jpeg
ORGANIZER;CN="Matthias%20Sch%C3%BCpbach":MAILTO:matthias@echo.ooo
END:VEVENT
END:VCALENDAR