BEGIN:VCALENDAR
VERSION:2.0
PRODID:-//Neustadt-lab 2017 - ECPv4.5.13//NONSGML v1.0//EN
CALSCALE:GREGORIAN
METHOD:PUBLISH
X-WR-CALNAME:Neustadt-lab 2017
X-ORIGINAL-URL:https://2017.neustadt-lab.ch
X-WR-CALDESC:Events for Neustadt-lab 2017
BEGIN:VEVENT
DTSTART;TZID=Europe/Berlin:20170909T130000
DTEND;TZID=Europe/Berlin:20170909T210000
DTSTAMP:20260419T220719
CREATED:20170710T100743Z
LAST-MODIFIED:20170809T081808Z
UID:227-1504962000-1504990800@2017.neustadt-lab.ch
SUMMARY:Dub I Land Soundsystem @ NEUstadt-lab
DESCRIPTION:Das Dub I Land Soundsystem gegründet von den Selectors Rootikal und Spliff\, die den Sound so hören und fühlen wollen wie er ist\, mit schwergewichtigem Bass\, treibenden Mitten und zischenden Höhen.Lass dich leiten von den Vibes. Begrüssen wir den Spätsommer zu jamaikanischen Klängen\, Heavyweight Perlen aus Reggae\, Roots\, Dancehall und Rootsstepper\, alles strictly Vinyl.Unser Motto: – all tribes are welcome –Greetings to one and all – Dub I Land SoundsystemAufbau: ab 11hStart: 13hPause 16-18hEnde: 21h \n
URL:https://2017.neustadt-lab.ch/event/dub-i-land-soundsystem-neustadt-lab/
CATEGORIES:Konzert
ORGANIZER;CN="Andreas%20Grosse":MAILTO:andreas.grosse@hispeed.ch
END:VEVENT
BEGIN:VEVENT
DTSTART;TZID=Europe/Berlin:20170909T140000
DTEND;TZID=Europe/Berlin:20170909T220000
DTSTAMP:20260419T220719
CREATED:20170823T165035Z
LAST-MODIFIED:20170823T165035Z
UID:665-1504965600-1504994400@2017.neustadt-lab.ch
SUMMARY:Drive-In Cinema\, mit Programm für Gross & Klein!
DESCRIPTION:Drive-In Cinema\, mit Programm für Gross & Klein! \nBereits ab 23ten August bis 20ten September Im Rahmen des diesjährigen NeuStadtLabs auf der ”Schütz”. \nHolePole Productions lädt ein zum einmaligen Erlebnis des Drive-In Cinemas\, mit speziell dafür umgebauten Elektrofahrzeugen! \nIn Zusammenarbeit mit Grosse Halle & Shnit Worldwide Shortfilmfestival\nDas Programm voller Überraschungen & Kurzfilme für Gross & Klein! \nFür Kinder jeweils samstags 14h-17h – Programm ca. 15min \nFür Erwachsene jeweils mittwochs 19h-22h\n& samstags 19h-22h – Programm ca. 25min \nTickets gegen Ausweis bei der Park.Bar\, die mit der Rutsche\, von HolePole beim Viadukt.. \nFreuen auf Euch!\nHolePole & das Team! \n
URL:https://2017.neustadt-lab.ch/event/drive-in-cinema-mit-programm-fuer-gross-klein-5/
CATEGORIES:HolePole,Verschiedene
ATTACH;FMTTYPE=image/jpeg:https://2017.neustadt-lab.ch/wp-content/uploads/2017/08/cinema_holepole.jpg
END:VEVENT
BEGIN:VEVENT
DTSTART;TZID=Europe/Berlin:20170909T163000
DTEND;TZID=Europe/Berlin:20170909T173000
DTSTAMP:20260419T220719
CREATED:20170704T150937Z
LAST-MODIFIED:20170706T091643Z
UID:218-1504974600-1504978200@2017.neustadt-lab.ch
SUMMARY:Prärie-Combo Claudia Stephani & The Flying Foxes
DESCRIPTION:Die mobile Bühne Düsenjet nimmt die Prärie-Combo Claudia Stephani & The Flyinf Foxes an Bord. Sie umrunden am 9.9 den Thunersee und bespielen am Vormittag Interlaken\, am frühen Nachmittag Thun und der Schlusspunkt setzt Bern am späten Nachmittag. \nMehr Informationen: www.duesenjet.ch und www.claudiastephani.ch \n
URL:https://2017.neustadt-lab.ch/event/praerie-combo-claudia-stephani-the-flying-foxes/
LOCATION:Luterbachstrasse 2\, Zuchwil\, 4528
CATEGORIES:Konzert
ORGANIZER;CN="Caludia%20Stephani":MAILTO:stephani.claudia@gmail.com
END:VEVENT
BEGIN:VEVENT
DTSTART;TZID=Europe/Berlin:20170909T180000
DTEND;TZID=Europe/Berlin:20170909T233000
DTSTAMP:20260419T220719
CREATED:20170627T204753Z
LAST-MODIFIED:20170627T204753Z
UID:212-1504980000-1504999800@2017.neustadt-lab.ch
SUMMARY:Veranstaltung HolePole
DESCRIPTION:
URL:https://2017.neustadt-lab.ch/event/veranstaltung-holepole-4/
CATEGORIES:HolePole
END:VEVENT
END:VCALENDAR