BEGIN:VCALENDAR
VERSION:2.0
PRODID:-//Neustadt-lab 2017 - ECPv4.5.13//NONSGML v1.0//EN
CALSCALE:GREGORIAN
METHOD:PUBLISH
X-WR-CALNAME:Neustadt-lab 2017
X-ORIGINAL-URL:https://2017.neustadt-lab.ch
X-WR-CALDESC:Events for Neustadt-lab 2017
BEGIN:VEVENT
DTSTART;TZID=Europe/Berlin:20170807T080000
DTEND;TZID=Europe/Berlin:20170827T170000
DTSTAMP:20260420T130033
CREATED:20170727T133055Z
LAST-MODIFIED:20170805T093101Z
UID:382-1502092800-1503853200@2017.neustadt-lab.ch
SUMMARY:UNA Experiment
DESCRIPTION:Baut mit UNA an einer partizipativen Raumskulptur im Neustadt-lab\nIm Rahmen eines ‚UNA Experiments‘ soll am diesjährigen Neustadt-Lab eine begeh- und bespielbare UNA Raumskulptur entstehen. Ganz im Sinne unseres Mottos ‚Gemeinsame Vielfalt in Aktion‘ wollen wir gemeinsam planen\, bauen\, gestalten und bespielen. Mit dem Aufbau starten wir in der zweiten August-Woche. \nSobald steht\, was auch immer entstehen wird\, wollen wir unsere Installation beleben. Mit kleinen Konzerten\, Performances\, Kunstwerken\, Workshops und allem\, was euch einfällt. \nWir haben:\n– einen tollen Platz mitten auf der Schützenmatte\n– ordentlich Material\n– jede Menge Motivation \nWir brauchen:\n– fleissige Hände\n– kreative Köpfe\n– eure Zeit und Mithilfe \nWir treffen uns erstmals am\n****Dienstag\, 8. August um 09:00 auf der Schützenmatte im Neustadt-lab 2017**** \n
URL:https://2017.neustadt-lab.ch/event/una-experiment/
CATEGORIES:Ausstellung
ATTACH;FMTTYPE=image/jpeg:https://2017.neustadt-lab.ch/wp-content/uploads/2017/07/UNAexperiment.jpg
ORGANIZER;CN="UNA":MAILTO:nadja@unafestival.ch
END:VEVENT
BEGIN:VEVENT
DTSTART;TZID=Europe/Berlin:20170810T180000
DTEND;TZID=Europe/Berlin:20170810T193000
DTSTAMP:20260420T130033
CREATED:20170707T062412Z
LAST-MODIFIED:20170707T062412Z
UID:244-1502388000-1502393400@2017.neustadt-lab.ch
SUMMARY:Hasenscheisse
DESCRIPTION:Die fabulose Hasenscheisse Band als Ungergrund-Auftakt. \n
URL:https://2017.neustadt-lab.ch/event/hasenscheisse/
CATEGORIES:Solstage
END:VEVENT
BEGIN:VEVENT
DTSTART;TZID=Europe/Berlin:20170810T200000
DTEND;TZID=Europe/Berlin:20170810T220000
DTSTAMP:20260420T130033
CREATED:20170626T152911Z
LAST-MODIFIED:20170730T140342Z
UID:149-1502395200-1502402400@2017.neustadt-lab.ch
SUMMARY:Ungergrund Bärn: LeoniLeoni
DESCRIPTION:\nPessimistinnen-Pop: Songs für Tagträumer und alle die es werden wollen. \nIm Netz:\nSoundcloud\, Website \nLine-up:\nLeoni Altherr (voc/g)\,\nSibly Hofstetter (voc)\nLuzius Schuler (keys)\nJeremias Keller (eb)\nBenedikt Utzinger (dr) \n\n
URL:https://2017.neustadt-lab.ch/event/ungergrund-baern-leonileoni/
CATEGORIES:Solstage
ATTACH;FMTTYPE=image/jpeg:https://2017.neustadt-lab.ch/wp-content/uploads/2017/06/LeoniLeoni.jpg
END:VEVENT
END:VCALENDAR