BEGIN:VCALENDAR
VERSION:2.0
PRODID:-//Neustadt-lab 2017 - ECPv4.5.13//NONSGML v1.0//EN
CALSCALE:GREGORIAN
METHOD:PUBLISH
X-WR-CALNAME:Neustadt-lab 2017
X-ORIGINAL-URL:https://2017.neustadt-lab.ch
X-WR-CALDESC:Events for Neustadt-lab 2017
BEGIN:VEVENT
DTSTART;TZID=Europe/Berlin:20170923T100000
DTEND;TZID=Europe/Berlin:20170923T233000
DTSTAMP:20260420T214954
CREATED:20170918T140727Z
LAST-MODIFIED:20170918T143528Z
UID:831-1506160800-1506209400@2017.neustadt-lab.ch
SUMMARY:Strassenstrich | Künstlerische Intervention
DESCRIPTION:Matze interveniert am Samstag 23.9.17 auf dem Platz von Neustadt-lab mit dem Happening „Strassenstrich“. \nMaterialien: 4 Strassenlaternen\, 4 Nutten\, 4 Dealer\, 2 Zuhälter\, 1 Vergnügungssbox \n  \nDer Künstler ist anwesend 🙂 \n
URL:https://2017.neustadt-lab.ch/event/strassenstrich-kuenstlerische-intervention/
CATEGORIES:Ausstellung
ATTACH;FMTTYPE=image/jpeg:https://2017.neustadt-lab.ch/wp-content/uploads/2017/03/platzsee_1314.jpg
END:VEVENT
END:VCALENDAR